BEGIN:VCALENDAR
VERSION:2.0
PRODID:-//wp-events-plugin.com//7.2.3.1//EN
TZID:Asia/Tokyo
X-WR-TIMEZONE:Asia/Tokyo
BEGIN:VEVENT
UID:25@lot-studio.com
DTSTART;TZID=Asia/Tokyo;VALUE=DATE:20260207
DTEND;TZID=Asia/Tokyo;VALUE=DATE:20260208
DTSTAMP:20260207T020242Z
URL:https://lot-studio.com/events/2026-2-7%ef%bc%88sat%ef%bc%89/
SUMMARY:2026.2.7（SAT）
DESCRIPTION:
ATTACH;FMTTYPE=image/jpeg:https://lot-studio.com/wp-content/uploads/2026/0
 2/LAST-Personality-1.jpg
CATEGORIES:2026年,2月
END:VEVENT
BEGIN:VTIMEZONE
TZID:Asia/Tokyo
X-LIC-LOCATION:Asia/Tokyo
BEGIN:STANDARD
DTSTART:20250207T000000
TZOFFSETFROM:+0900
TZOFFSETTO:+0900
TZNAME:JST
END:STANDARD
END:VTIMEZONE
END:VCALENDAR